BEGIN:VCALENDAR
VERSION:2.0
PRODID:-//Refugio County Fair - ECPv6.15.16//NONSGML v1.0//EN
CALSCALE:GREGORIAN
METHOD:PUBLISH
X-WR-CALNAME:Refugio County Fair
X-ORIGINAL-URL:https://www.refugiocountyfair.com
X-WR-CALDESC:Events for Refugio County Fair
REFRESH-INTERVAL;VALUE=DURATION:PT1H
X-Robots-Tag:noindex
X-PUBLISHED-TTL:PT1H
BEGIN:VTIMEZONE
TZID:America/Chicago
BEGIN:DAYLIGHT
TZOFFSETFROM:-0600
TZOFFSETTO:-0500
TZNAME:CDT
DTSTART:20230312T080000
END:DAYLIGHT
BEGIN:STANDARD
TZOFFSETFROM:-0500
TZOFFSETTO:-0600
TZNAME:CST
DTSTART:20231105T070000
END:STANDARD
BEGIN:DAYLIGHT
TZOFFSETFROM:-0600
TZOFFSETTO:-0500
TZNAME:CDT
DTSTART:20240310T080000
END:DAYLIGHT
BEGIN:STANDARD
TZOFFSETFROM:-0500
TZOFFSETTO:-0600
TZNAME:CST
DTSTART:20241103T070000
END:STANDARD
BEGIN:DAYLIGHT
TZOFFSETFROM:-0600
TZOFFSETTO:-0500
TZNAME:CDT
DTSTART:20250309T080000
END:DAYLIGHT
BEGIN:STANDARD
TZOFFSETFROM:-0500
TZOFFSETTO:-0600
TZNAME:CST
DTSTART:20251102T070000
END:STANDARD
BEGIN:DAYLIGHT
TZOFFSETFROM:-0600
TZOFFSETTO:-0500
TZNAME:CDT
DTSTART:20260308T080000
END:DAYLIGHT
BEGIN:STANDARD
TZOFFSETFROM:-0500
TZOFFSETTO:-0600
TZNAME:CST
DTSTART:20261101T070000
END:STANDARD
BEGIN:DAYLIGHT
TZOFFSETFROM:-0600
TZOFFSETTO:-0500
TZNAME:CDT
DTSTART:20270314T080000
END:DAYLIGHT
BEGIN:STANDARD
TZOFFSETFROM:-0500
TZOFFSETTO:-0600
TZNAME:CST
DTSTART:20271107T070000
END:STANDARD
END:VTIMEZONE
BEGIN:VEVENT
DTSTART;TZID=America/Chicago:20260420T190000
DTEND;TZID=America/Chicago:20260420T200000
DTSTAMP:20260421T074414
CREATED:20230118T201315Z
LAST-MODIFIED:20260331T145859Z
UID:2132-1776711600-1776715200@www.refugiocountyfair.com
SUMMARY:Fair Association ANNUAL Board Meeting
DESCRIPTION:
URL:https://www.refugiocountyfair.com/event/fair-association-board-meeting-10/
LOCATION:Padilla Hall\, 106 Fairgrounds Rd\, Refugio\, TX\, 78377\, United States
CATEGORIES:Board Meeting,Fair,Padilla Hall
ATTACH;FMTTYPE=image/png:https://www.refugiocountyfair.com/wp-content/uploads/Fair-Board-Meeting-Pic.png
END:VEVENT
BEGIN:VEVENT
DTSTART;TZID=America/Chicago:20260328T210000
DTEND;TZID=America/Chicago:20260329T010000
DTSTAMP:20260421T074414
CREATED:20251121T223937Z
LAST-MODIFIED:20260327T205335Z
UID:2097-1774731600-1774746000@www.refugiocountyfair.com
SUMMARY:Josh Weathers Concert with Special Guests: The Jace Martin Band & DJ Matt Garza
DESCRIPTION:Josh Weathers Concert with Special Guests: The Jace Martin Band & DJ Matt Garza\nPre-sale Tickets: use code EARLY for $5 off per ticket. \nTicket Price: $25 at the door. Cash and cards are accepted.  \nYou will not receive a physical ticket issued for those that purchased tickets online. At the venue\, check in with the online ticket sales representative inside the door. ID will be required. \nAll concerts are Rain or Shine. No refunds will be issued with the exception of a complete concert/event cancellation. \nUPDATE: Online tickets sales have been disabled. You can purchase tickets at the door for $25 cash or use a Debit/Credit card (with a processing fee of $5).\n  \n \n 
URL:https://www.refugiocountyfair.com/event/shenandoah-2025/
LOCATION:Padilla Hall\, 106 Fairgrounds Rd\, Refugio\, TX\, 78377\, United States
CATEGORIES:Concerts,Fair,Padilla Hall
ATTACH;FMTTYPE=image/jpeg:https://www.refugiocountyfair.com/wp-content/uploads/Josh-Weathers-3.28.26.jpg
END:VEVENT
BEGIN:VEVENT
DTSTART;TZID=America/Chicago:20260326T180000
DTEND;TZID=America/Chicago:20260326T220000
DTSTAMP:20260421T074414
CREATED:20251112T094314Z
LAST-MODIFIED:20260313T144117Z
UID:2654-1774548000-1774562400@www.refugiocountyfair.com
SUMMARY:St. James the Apostle Catholic Church Bingo
DESCRIPTION:  \n 
URL:https://www.refugiocountyfair.com/event/back-to-school-bingo/
LOCATION:Padilla Hall\, 106 Fairgrounds Rd\, Refugio\, TX\, 78377\, United States
CATEGORIES:Padilla Hall
ATTACH;FMTTYPE=image/jpeg:https://www.refugiocountyfair.com/wp-content/uploads/BINGO-3.26.26.jpg
END:VEVENT
BEGIN:VEVENT
DTSTART;TZID=America/Chicago:20260316T190000
DTEND;TZID=America/Chicago:20260316T200000
DTSTAMP:20260421T074414
CREATED:20230118T200153Z
LAST-MODIFIED:20251217T200057Z
UID:2126-1773687600-1773691200@www.refugiocountyfair.com
SUMMARY:Fair Association Board Meeting
DESCRIPTION:
URL:https://www.refugiocountyfair.com/event/fair-association-board-meeting-7/
LOCATION:Padilla Hall\, 106 Fairgrounds Rd\, Refugio\, TX\, 78377\, United States
CATEGORIES:Board Meeting,Fair,Padilla Hall
ATTACH;FMTTYPE=image/png:https://www.refugiocountyfair.com/wp-content/uploads/Fair-Board-Meeting-Pic.png
END:VEVENT
BEGIN:VEVENT
DTSTART;TZID=America/Chicago:20260216T190000
DTEND;TZID=America/Chicago:20260216T200000
DTSTAMP:20260421T074414
CREATED:20220804T152233Z
LAST-MODIFIED:20251217T195710Z
UID:398-1771268400-1771272000@www.refugiocountyfair.com
SUMMARY:Fair Association Board Meeting
DESCRIPTION:
URL:https://www.refugiocountyfair.com/event/fair-association-board-meeting-4/
LOCATION:TX
CATEGORIES:Board Meeting,Padilla Hall
ATTACH;FMTTYPE=image/png:https://www.refugiocountyfair.com/wp-content/uploads/Fair-Board-Meeting-Pic.png
END:VEVENT
BEGIN:VEVENT
DTSTART;TZID=America/Chicago:20260119T190000
DTEND;TZID=America/Chicago:20260119T200000
DTSTAMP:20260421T074414
CREATED:20250717T201010Z
LAST-MODIFIED:20251217T195555Z
UID:2631-1768849200-1768852800@www.refugiocountyfair.com
SUMMARY:Fair Association Board Meeting
DESCRIPTION:
URL:https://www.refugiocountyfair.com/event/fair-association-board-meeting-12/
LOCATION:Padilla Hall\, 106 Fairgrounds Rd\, Refugio\, TX\, 78377\, United States
CATEGORIES:Board Meeting,Fair,Padilla Hall
ATTACH;FMTTYPE=image/png:https://www.refugiocountyfair.com/wp-content/uploads/Fair-Board-Meeting-Pic.png
END:VEVENT
BEGIN:VEVENT
DTSTART;TZID=America/Chicago:20251020T190000
DTEND;TZID=America/Chicago:20251020T200000
DTSTAMP:20260421T074414
CREATED:20250717T200906Z
LAST-MODIFIED:20250717T200906Z
UID:2629-1760986800-1760990400@www.refugiocountyfair.com
SUMMARY:Fair Association Board Meeting
DESCRIPTION:
URL:https://www.refugiocountyfair.com/event/fair-association-board-meeting-11/
LOCATION:Padilla Hall\, 106 Fairgrounds Rd\, Refugio\, TX\, 78377\, United States
CATEGORIES:Board Meeting,Fair,Padilla Hall
ATTACH;FMTTYPE=image/png:https://www.refugiocountyfair.com/wp-content/uploads/Fair-Board-Meeting-Pic.png
END:VEVENT
BEGIN:VEVENT
DTSTART;TZID=America/Chicago:20250915T190000
DTEND;TZID=America/Chicago:20250915T200000
DTSTAMP:20260421T074414
CREATED:20250717T200725Z
LAST-MODIFIED:20250717T200725Z
UID:2627-1757962800-1757966400@www.refugiocountyfair.com
SUMMARY:Fair Association Board Meeting
DESCRIPTION:
URL:https://www.refugiocountyfair.com/event/fair-association-board-meeting-5/
LOCATION:Padilla Hall\, 106 Fairgrounds Rd\, Refugio\, TX\, 78377\, United States
CATEGORIES:Board Meeting,Fair,Padilla Hall
ATTACH;FMTTYPE=image/png:https://www.refugiocountyfair.com/wp-content/uploads/Fair-Board-Meeting-Pic.png
END:VEVENT
BEGIN:VEVENT
DTSTART;TZID=America/Chicago:20250818T190000
DTEND;TZID=America/Chicago:20250818T200000
DTSTAMP:20260421T074414
CREATED:20230118T200914Z
LAST-MODIFIED:20250717T200621Z
UID:2128-1755543600-1755547200@www.refugiocountyfair.com
SUMMARY:Fair Association Board Meeting
DESCRIPTION:
URL:https://www.refugiocountyfair.com/event/fair-association-board-meeting-8/
LOCATION:Padilla Hall\, 106 Fairgrounds Rd\, Refugio\, TX\, 78377\, United States
CATEGORIES:Board Meeting,Fair,Padilla Hall
ATTACH;FMTTYPE=image/png:https://www.refugiocountyfair.com/wp-content/uploads/Fair-Board-Meeting-Pic.png
END:VEVENT
BEGIN:VEVENT
DTSTART;TZID=America/Chicago:20250721T190000
DTEND;TZID=America/Chicago:20250721T200000
DTSTAMP:20260421T074414
CREATED:20230118T201152Z
LAST-MODIFIED:20250717T200525Z
UID:2130-1753124400-1753128000@www.refugiocountyfair.com
SUMMARY:Fair Association Board Meeting
DESCRIPTION:
URL:https://www.refugiocountyfair.com/event/fair-association-board-meeting-9/
LOCATION:Padilla Hall\, 106 Fairgrounds Rd\, Refugio\, TX\, 78377\, United States
CATEGORIES:Board Meeting,Fair,Padilla Hall
ATTACH;FMTTYPE=image/png:https://www.refugiocountyfair.com/wp-content/uploads/Fair-Board-Meeting-Pic.png
END:VEVENT
BEGIN:VEVENT
DTSTART;TZID=America/Chicago:20250527T190000
DTEND;TZID=America/Chicago:20250527T200000
DTSTAMP:20260421T074414
CREATED:20220804T152139Z
LAST-MODIFIED:20250506T144703Z
UID:396-1748372400-1748376000@www.refugiocountyfair.com
SUMMARY:Fair Association Board Meeting - Rescheduled
DESCRIPTION: 
URL:https://www.refugiocountyfair.com/event/fair-association-board-meeting-3/
LOCATION:Padilla Hall\, 106 Fairgrounds Rd\, Refugio\, TX\, 78377\, United States
CATEGORIES:Board Meeting,Padilla Hall
ATTACH;FMTTYPE=image/png:https://www.refugiocountyfair.com/wp-content/uploads/Fair-Board-Meeting-Pic.png
END:VEVENT
BEGIN:VEVENT
DTSTART;TZID=America/Chicago:20250421T190000
DTEND;TZID=America/Chicago:20250421T200000
DTSTAMP:20260421T074414
CREATED:20220804T143624Z
LAST-MODIFIED:20250324T212711Z
UID:384-1745262000-1745265600@www.refugiocountyfair.com
SUMMARY:Fair Association Board Meeting
DESCRIPTION:
URL:https://www.refugiocountyfair.com/event/fair-association-board-meeting/
LOCATION:Padilla Hall\, 106 Fairgrounds Rd\, Refugio\, TX\, 78377\, United States
CATEGORIES:Board Meeting,Padilla Hall
ATTACH;FMTTYPE=image/png:https://www.refugiocountyfair.com/wp-content/uploads/Fair-Board-Meeting-Pic.png
END:VEVENT
BEGIN:VEVENT
DTSTART;TZID=America/Chicago:20250321T200000
DTEND;TZID=America/Chicago:20250322T000000
DTSTAMP:20260421T074414
CREATED:20250220T204616Z
LAST-MODIFIED:20250220T204808Z
UID:2568-1742587200-1742601600@www.refugiocountyfair.com
SUMMARY:DJ Isaac
DESCRIPTION:
URL:https://www.refugiocountyfair.com/event/dj-isaac/
LOCATION:Padilla Hall\, 106 Fairgrounds Rd\, Refugio\, TX\, 78377\, United States
CATEGORIES:Concerts,Fair,Padilla Hall
END:VEVENT
BEGIN:VEVENT
DTSTART;TZID=America/Chicago:20250217T190000
DTEND;TZID=America/Chicago:20250217T200000
DTSTAMP:20260421T074414
CREATED:20220804T151642Z
LAST-MODIFIED:20250108T212724Z
UID:392-1739818800-1739822400@www.refugiocountyfair.com
SUMMARY:Fair Association Board Meeting
DESCRIPTION:
URL:https://www.refugiocountyfair.com/event/fair-association-board-meeting-2/
LOCATION:TX
CATEGORIES:Board Meeting,Padilla Hall
ATTACH;FMTTYPE=image/png:https://www.refugiocountyfair.com/wp-content/uploads/Fair-Board-Meeting-Pic.png
END:VEVENT
BEGIN:VEVENT
DTSTART;TZID=America/Chicago:20240122T190000
DTEND;TZID=America/Chicago:20240122T200000
DTSTAMP:20260421T074414
CREATED:20220804T152431Z
LAST-MODIFIED:20240112T173844Z
UID:402-1705950000-1705953600@www.refugiocountyfair.com
SUMMARY:Fair Association Board Meeting
DESCRIPTION:
URL:https://www.refugiocountyfair.com/event/fair-association-board-meeting-6/
LOCATION:Padilla Hall\, 106 Fairgrounds Rd\, Refugio\, TX\, 78377\, United States
CATEGORIES:Board Meeting,Padilla Hall
ATTACH;FMTTYPE=image/png:https://www.refugiocountyfair.com/wp-content/uploads/Fair-Board-Meeting-Pic.png
END:VEVENT
END:VCALENDAR